BEGIN:VCALENDAR
VERSION:2.0
PRODID:-//Godoy Cruz - ECPv4.5.8.1//NONSGML v1.0//EN
CALSCALE:GREGORIAN
METHOD:PUBLISH
X-WR-CALNAME:Godoy Cruz
X-ORIGINAL-URL:https://www.godoycruz.sisargentina.com
X-WR-CALDESC:Events for Godoy Cruz
BEGIN:VEVENT
DTSTART;TZID=UTC-3:20220411T210000
DTEND;TZID=UTC-3:20220411T210000
DTSTAMP:20260422T062058
CREATED:20220405T160829Z
LAST-MODIFIED:20220406T132903Z
UID:88272-1649710800-1649710800@www.godoycruz.sisargentina.com
SUMMARY:Música Clásica por los Caminos del Vino
DESCRIPTION:[vc_row][vc_column][vc_column_text]Vuelve el ciclo de conciertos de Semana Santa en lugares emblemáticos del departamento. \nPropuesta artística: \nMapping en la Parroquia San Vicente Ferrer. \nLa Orquesta Barroca de Mendoza interpreta la 5º Sinfonía de Beethoven.[/vc_column_text][/vc_column][/vc_row][vc_row][vc_column][/vc_column][/vc_row][vc_row][vc_column][vc_single_image image=»88316″ img_size=»full»][/vc_column][/vc_row] \n
URL:https://www.godoycruz.sisargentina.com/evento/musica-clasica-los-caminos-del-vino-agotado1/
ATTACH;FMTTYPE=image/jpeg:https://www.godoycruz.sisargentina.com/wp-content/uploads/2022/04/WhatsApp-Image-2022-04-05-at-16.16.51.jpeg
END:VEVENT
END:VCALENDAR