BEGIN:VCALENDAR
VERSION:2.0
PRODID:-//Godoy Cruz - ECPv4.5.8.1//NONSGML v1.0//EN
CALSCALE:GREGORIAN
METHOD:PUBLISH
X-WR-CALNAME:Godoy Cruz
X-ORIGINAL-URL:https://www.godoycruz.sisargentina.com
X-WR-CALDESC:Events for Godoy Cruz
BEGIN:VEVENT
DTSTART;TZID=UTC-3:20230819T213000
DTEND;TZID=UTC-3:20230819T213000
DTSTAMP:20260421T032647
CREATED:20230807T151403Z
LAST-MODIFIED:20230807T151403Z
UID:102392-1692480600-1692480600@www.godoycruz.sisargentina.com
SUMMARY:Monólogos para Raquel\, de Daniel Quiroga
DESCRIPTION:[vc_row][vc_column][vc_column_text]El actor y director Daniel Quiroga se pone en la piel de Raquel\, en esta comedia que transita por el humor\, la sátira y la reflexión. \nRaquel está pasando por un paréntesis en su vida. Roberto\, su gran amor se fue de casa. \nLa protagonista se replantea toda su vida: cómo fue criada\, mandatos\, relaciones\, el machismo y la sexualidad. \nLas entradas se pueden comprar vía online en https://bit.ly/EntradasMonologoParaRaquel o en la boletería del teatro\, de lunes a sábado de 9 a 18H.[/vc_column_text][/vc_column][/vc_row][vc_row][vc_column][vc_single_image image=»102393″ img_size=»full»][/vc_column][/vc_row] \n
URL:https://www.godoycruz.sisargentina.com/evento/monologos-raquel-daniel-quiroga/
LOCATION:Colón 27\, Godoy Cruz\, Mendoza\, 5501\, Argentina
ATTACH;FMTTYPE=image/jpeg:https://www.godoycruz.sisargentina.com/wp-content/uploads/2023/08/363405808_834021634744034_4002329870125138534_n.jpg
END:VEVENT
END:VCALENDAR