BEGIN:VCALENDAR
VERSION:2.0
PRODID:-//Godoy Cruz - ECPv4.5.8.1//NONSGML v1.0//EN
CALSCALE:GREGORIAN
METHOD:PUBLISH
X-WR-CALNAME:Godoy Cruz
X-ORIGINAL-URL:https://www.godoycruz.sisargentina.com
X-WR-CALDESC:Events for Godoy Cruz
BEGIN:VEVENT
DTSTART;TZID=UTC-3:20231014T210000
DTEND;TZID=UTC-3:20231014T210000
DTSTAMP:20260421T030210
CREATED:20231010T173806Z
LAST-MODIFIED:20231010T173806Z
UID:104186-1697317200-1697317200@www.godoycruz.sisargentina.com
SUMMARY:Mirada Oeste 2023
DESCRIPTION:[vc_row][vc_column][vc_column_text]Uno de los festivales de cine más importantes de la provincia renueva su agenda. \nProyección de películas claves para nuestro cine\, Masterclass con especialistas\, charlas\, clásicos de culto\, fiesta temática y museo de cine\, entre otras novedades. \n“Fiesta Matrix”. Premio de 100 mil pesos al mejor disfraz relacionado a la película. \nDj Peter Boya & Vj Gabriel Leonangelí + Proyección de la película. \nEntrada gratuita.[/vc_column_text][/vc_column][/vc_row][vc_row][vc_column][vc_single_image image=»104187″ img_size=»full»][/vc_column][/vc_row] \n
URL:https://www.godoycruz.sisargentina.com/evento/mirada-oeste-2023-5/
ATTACH;FMTTYPE=image/jpeg:https://www.godoycruz.sisargentina.com/wp-content/uploads/2023/10/386749941_644285537890359_1193098847922458516_n.jpg
END:VEVENT
END:VCALENDAR