BEGIN:VCALENDAR
VERSION:2.0
PRODID:-//Godoy Cruz - ECPv4.5.8.1//NONSGML v1.0//EN
CALSCALE:GREGORIAN
METHOD:PUBLISH
X-WR-CALNAME:Godoy Cruz
X-ORIGINAL-URL:https://www.godoycruz.sisargentina.com
X-WR-CALDESC:Events for Godoy Cruz
BEGIN:VEVENT
DTSTART;TZID=UTC-3:20231013T230000
DTEND;TZID=UTC-3:20231013T230000
DTSTAMP:20260421T013546
CREATED:20231010T173108Z
LAST-MODIFIED:20231010T173108Z
UID:104180-1697238000-1697238000@www.godoycruz.sisargentina.com
SUMMARY:Mirada Oeste 2023
DESCRIPTION:[vc_row][vc_column][vc_column_text]Uno de los festivales de cine más importantes de la provincia renueva su agenda. \nProyección de películas claves para nuestro cine\, Masterclass con especialistas\, charlas\, clásicos de culto\, fiesta temática y museo de cine\, entre otras novedades. \n“Cine de terror en el sótano”. \nProyección de “Viernes 13”\, de Sean S. Cunningham. \nCupos limitados (100 espectadores). \nEntrada gratuita por orden de llegada.[/vc_column_text][/vc_column][/vc_row][vc_row][vc_column][vc_single_image image=»104183″ img_size=»full»][/vc_column][/vc_row] \n
URL:https://www.godoycruz.sisargentina.com/evento/mirada-oeste-2023-4/
ATTACH;FMTTYPE=image/jpeg:https://www.godoycruz.sisargentina.com/wp-content/uploads/2023/10/386081243_644285484557031_8482085830723255047_n.jpg
END:VEVENT
END:VCALENDAR