BEGIN:VCALENDAR
VERSION:2.0
PRODID:-//Godoy Cruz - ECPv4.5.8.1//NONSGML v1.0//EN
CALSCALE:GREGORIAN
METHOD:PUBLISH
X-WR-CALNAME:Godoy Cruz
X-ORIGINAL-URL:https://www.godoycruz.sisargentina.com
X-WR-CALDESC:Events for Godoy Cruz
BEGIN:VEVENT
DTSTART;TZID=UTC-3:20240127T210000
DTEND;TZID=UTC-3:20240127T210000
DTSTAMP:20260420T183231
CREATED:20240126T163145Z
LAST-MODIFIED:20240126T163145Z
UID:106959-1706389200-1706389200@www.godoycruz.sisargentina.com
SUMMARY:Milonga en la Plaza
DESCRIPTION:[vc_row][vc_column][vc_column_text]Grandes artistas del tango llegan a la plaza de Godoy Cruz. \nMúsica en vivo con Omar Berón\, que cumple 50 años con el tango. \nEspectáculo de baile: Paola Valdivia y Javier Jofré. Águeda Mansilla y Joel Tempestti. \nDj: Alejo Pérez. \nLocutor: Ángel Bloise. \n  \nEntrada gratuita.[/vc_column_text][/vc_column][/vc_row][vc_row][vc_column][vc_single_image image=»106958″ img_size=»full»][/vc_column][/vc_row] \n
URL:https://www.godoycruz.sisargentina.com/evento/milonga-la-plaza-7/
ATTACH;FMTTYPE=image/jpeg:https://www.godoycruz.sisargentina.com/wp-content/uploads/2024/01/WhatsApp-Image-2024-01-26-at-10.31.02-AM.jpeg
END:VEVENT
END:VCALENDAR