BEGIN:VCALENDAR
VERSION:2.0
PRODID:-//Godoy Cruz - ECPv4.5.8.1//NONSGML v1.0//EN
CALSCALE:GREGORIAN
METHOD:PUBLISH
X-WR-CALNAME:Godoy Cruz
X-ORIGINAL-URL:https://www.godoycruz.sisargentina.com
X-WR-CALDESC:Events for Godoy Cruz
BEGIN:VEVENT
DTSTART;TZID=UTC-3:20230225T210000
DTEND;TZID=UTC-3:20230225T210000
DTSTAMP:20260421T142645
CREATED:20230223T170148Z
LAST-MODIFIED:20230223T170148Z
UID:97809-1677358800-1677358800@www.godoycruz.sisargentina.com
SUMMARY:Milonga en el Barrio
DESCRIPTION:[vc_row][vc_column][vc_column_text]Lo mejor del tango se disfruta en el verano de Godoy Cruz. \nDamaris Aveiro y Carlos Chamorro (clases). \nEspectáculo: Orquesta Seré Tango; Compañía de Tango Mala Junta. \nDj Alejo Pérez. \nUnion Vecinal City Fathers (Gral. Alvear 730).[/vc_column_text][/vc_column][/vc_row][vc_row][vc_column][vc_single_image image=»97810″ img_size=»full»][/vc_column][/vc_row] \n
URL:https://www.godoycruz.sisargentina.com/evento/milonga-en-el-barrio/
ATTACH;FMTTYPE=image/jpeg:https://www.godoycruz.sisargentina.com/wp-content/uploads/2023/02/332192102_731676858363460_682219732314901366_n.jpg
END:VEVENT
END:VCALENDAR