BEGIN:VCALENDAR
VERSION:2.0
PRODID:-//Godoy Cruz - ECPv4.5.8.1//NONSGML v1.0//EN
CALSCALE:GREGORIAN
METHOD:PUBLISH
X-WR-CALNAME:Godoy Cruz
X-ORIGINAL-URL:https://www.godoycruz.sisargentina.com
X-WR-CALDESC:Events for Godoy Cruz
BEGIN:VEVENT
DTSTART;TZID=UTC-3:20190927T220000
DTEND;TZID=UTC-3:20190927T220000
DTSTAMP:20260424T090328
CREATED:20190926T160049Z
LAST-MODIFIED:20190926T160049Z
UID:63208-1569621600-1569621600@www.godoycruz.sisargentina.com
SUMMARY:Miguel Mateos presenta UNDOTRECUA
DESCRIPTION:[vc_row][vc_column][vc_column_text]El reconocido cantante de rock nacional presenta su nuevo show. \nVenta de entradas en la boletería del Teatro Plaza y en www.tuentrada.com \n [/vc_column_text][/vc_column][/vc_row][vc_row][vc_column][vc_single_image image=»63209″ img_size=»full»][/vc_column][/vc_row] \n
URL:https://www.godoycruz.sisargentina.com/evento/miguel-mateos-presenta-undotrecua/
LOCATION:Colón 27\, Godoy Cruz\, Mendoza\, 5501\, Argentina
ATTACH;FMTTYPE=image/jpeg:https://www.godoycruz.sisargentina.com/wp-content/uploads/2019/09/mateos-inter.jpg
END:VEVENT
END:VCALENDAR