BEGIN:VCALENDAR
VERSION:2.0
PRODID:-//Godoy Cruz - ECPv4.5.8.1//NONSGML v1.0//EN
CALSCALE:GREGORIAN
METHOD:PUBLISH
X-WR-CALNAME:Godoy Cruz
X-ORIGINAL-URL:https://www.godoycruz.sisargentina.com
X-WR-CALDESC:Events for Godoy Cruz
BEGIN:VEVENT
DTSTART;TZID=UTC-3:20210917T000000
DTEND;TZID=UTC-3:20210917T142500
DTSTAMP:20260422T185356
CREATED:20210917T142413Z
LAST-MODIFIED:20210917T142623Z
UID:81845-1631836800-1631888700@www.godoycruz.sisargentina.com
SUMMARY:Mes del Patrimonio Cultural
DESCRIPTION:[vc_row][vc_column][vc_column_text]Actividades gratuitas para toda la comunidad. \nCharlas\, fotografía\, talleres y Encuentro de Hobbistas y Coleccionistas. \nConvocatoria de Fotografía y Relato: “Memorias de Godoy Cruz”. \nBases: https://bit.ly/BasesCondicionesConcursoFotografia \nMás información e inscripciones en museodelaciudadgc@gmail.com[/vc_column_text][/vc_column][/vc_row][vc_row][vc_column][vc_single_image image=»81846″ img_size=»full»][/vc_column][/vc_row] \n
URL:https://www.godoycruz.sisargentina.com/evento/mes-del-patrimonio-cultural-1/
ATTACH;FMTTYPE=image/jpeg:https://www.godoycruz.sisargentina.com/wp-content/uploads/2021/09/WhatsApp-Image-2021-09-16-at-14.44.42.jpeg
END:VEVENT
END:VCALENDAR