BEGIN:VCALENDAR
VERSION:2.0
PRODID:-//Godoy Cruz - ECPv4.5.8.1//NONSGML v1.0//EN
CALSCALE:GREGORIAN
METHOD:PUBLISH
X-WR-CALNAME:Godoy Cruz
X-ORIGINAL-URL:https://www.godoycruz.sisargentina.com
X-WR-CALDESC:Events for Godoy Cruz
BEGIN:VEVENT
DTSTART;TZID=UTC-3:20230212T190000
DTEND;TZID=UTC-3:20230212T190000
DTSTAMP:20260421T142500
CREATED:20230209T171648Z
LAST-MODIFIED:20230209T171648Z
UID:97456-1676228400-1676228400@www.godoycruz.sisargentina.com
SUMMARY:Mercado Cultural
DESCRIPTION:[vc_row][vc_column][vc_column_text]Se viene una nueva edición de Mercado Cultural. \nPaseo de artesanos y emprendedores\, Foodtrucks y grandes bandas locales. \nRecitales en vivo: Hidalgo y sus Galácticos\, La Banda Viajera y El Combo Timbero. \nParque San Vicente.[/vc_column_text][/vc_column][/vc_row][vc_row][vc_column][vc_single_image image=»97457″ img_size=»full»][/vc_column][/vc_row] \n
URL:https://www.godoycruz.sisargentina.com/evento/mercado-cultural-2/
ATTACH;FMTTYPE=image/jpeg:https://www.godoycruz.sisargentina.com/wp-content/uploads/2023/02/WhatsApp-Image-2023-02-09-at-10.10.07-AM.jpeg
END:VEVENT
END:VCALENDAR