BEGIN:VCALENDAR
VERSION:2.0
PRODID:-//Godoy Cruz - ECPv4.5.8.1//NONSGML v1.0//EN
CALSCALE:GREGORIAN
METHOD:PUBLISH
X-WR-CALNAME:Godoy Cruz
X-ORIGINAL-URL:https://www.godoycruz.sisargentina.com
X-WR-CALDESC:Events for Godoy Cruz
BEGIN:VEVENT
DTSTART;TZID=UTC-3:20180812T170000
DTEND;TZID=UTC-3:20180812T170000
DTSTAMP:20260425T105337
CREATED:20180806T180319Z
LAST-MODIFIED:20180806T180319Z
UID:51652-1534093200-1534093200@www.godoycruz.sisargentina.com
SUMMARY:Mediateca Infantil
DESCRIPTION:[vc_row][vc_column][vc_column_text]Espectáculos para toda la familia. \nObra: «Los tesoros de Pipo». Elenco: Giraluna. Títeres y música en vivo (para niños a partir de un año y medio). \nAutoría\, dirección\, construcción y manipulación: Gabi Carli. Composición de canciones: Alejandra Bermejillo y Marcos Salas.[/vc_column_text][/vc_column][/vc_row][vc_row][vc_column][vc_single_image image=»51653″ img_size=»full»][/vc_column][/vc_row] \n
URL:https://www.godoycruz.sisargentina.com/evento/mediateca-infantil-2/
LOCATION:Tomba 54\, Godoy Cruz\, Mendoza\, 5501\, Argentina
ATTACH;FMTTYPE=image/jpeg:https://www.godoycruz.sisargentina.com/wp-content/uploads/2018/08/domingos-AGOSTO-MEDIATECA-INFANTIL.jpg
END:VEVENT
END:VCALENDAR