BEGIN:VCALENDAR
VERSION:2.0
PRODID:-//Godoy Cruz - ECPv4.5.8.1//NONSGML v1.0//EN
CALSCALE:GREGORIAN
METHOD:PUBLISH
X-WR-CALNAME:Godoy Cruz
X-ORIGINAL-URL:https://www.godoycruz.sisargentina.com
X-WR-CALDESC:Events for Godoy Cruz
BEGIN:VEVENT
DTSTART;TZID=UTC-3:20190630T170000
DTEND;TZID=UTC-3:20190630T170000
DTSTAMP:20260424T161111
CREATED:20190605T012239Z
LAST-MODIFIED:20190605T012239Z
UID:59838-1561914000-1561914000@www.godoycruz.sisargentina.com
SUMMARY:Mediateca infantil
DESCRIPTION:[vc_row][vc_column][vc_column_text]Obra “Los Tesoros de Pipo”. \nTíteres y música en vivo.[/vc_column_text][/vc_column][/vc_row][vc_row][vc_column][vc_single_image image=»59839″ img_size=»full»][/vc_column][/vc_row] \n
URL:https://www.godoycruz.sisargentina.com/evento/mediateca-infantil-12/
LOCATION:Tomba 54\, Godoy Cruz\, Mendoza\, 5501\, Argentina
ATTACH;FMTTYPE=image/jpeg:https://www.godoycruz.sisargentina.com/wp-content/uploads/2019/06/LosTesorosDePipo.jpg
END:VEVENT
END:VCALENDAR