BEGIN:VCALENDAR
VERSION:2.0
PRODID:-//Godoy Cruz - ECPv4.5.8.1//NONSGML v1.0//EN
CALSCALE:GREGORIAN
METHOD:PUBLISH
X-WR-CALNAME:Godoy Cruz
X-ORIGINAL-URL:https://www.godoycruz.sisargentina.com
X-WR-CALDESC:Events for Godoy Cruz
BEGIN:VEVENT
DTSTART;TZID=UTC-3:20220815T110000
DTEND;TZID=UTC-3:20220815T110000
DTSTAMP:20260421T235517
CREATED:20220802T185118Z
LAST-MODIFIED:20220802T185118Z
UID:91679-1660561200-1660561200@www.godoycruz.sisargentina.com
SUMMARY:Malambo Femenino en el Cine Teatro Plaza
DESCRIPTION:[vc_row][vc_column][vc_column_text] \n\nEl próximo 15 de agosto se realizará el Pre Selectivo Campeonato Nacional de Malambo Femenino en el Cine Teatro Plaza\n\n\n\n[/vc_column_text][/vc_column][/vc_row][vc_row][vc_column][vc_single_image image=»91680″ img_size=»full»][/vc_column][/vc_row] \n
URL:https://www.godoycruz.sisargentina.com/evento/malambo-femenino-cine-teatro-plaza/
LOCATION:Colon 27\, Godoy Cruz\, Mendoza\, Argentina
ATTACH;FMTTYPE=image/jpeg:https://www.godoycruz.sisargentina.com/wp-content/uploads/2022/08/Malambo-femenino.jpeg
END:VEVENT
END:VCALENDAR