BEGIN:VCALENDAR
VERSION:2.0
PRODID:-//Godoy Cruz - ECPv4.5.8.1//NONSGML v1.0//EN
CALSCALE:GREGORIAN
METHOD:PUBLISH
X-WR-CALNAME:Godoy Cruz
X-ORIGINAL-URL:https://www.godoycruz.sisargentina.com
X-WR-CALDESC:Events for Godoy Cruz
BEGIN:VEVENT
DTSTART;TZID=UTC-3:20210828T200000
DTEND;TZID=UTC-3:20210828T200000
DTSTAMP:20260422T185341
CREATED:20210805T164737Z
LAST-MODIFIED:20210812T165308Z
UID:80352-1630180800-1630180800@www.godoycruz.sisargentina.com
SUMMARY:Lucho Aberastain presenta "Desde adentro" (Agotado)
DESCRIPTION:[vc_row][vc_column][vc_column_text]En un «Silent Concert» único y exclusivo\, Lucho Aberastain interpreta su nuevo disco. \nEl concierto se podrá escuchar en vivo y con auriculares. \nEl material está disponible en las principales plataformas. \nEntradas en venta: \nVía online: https://bit.ly/EntradasLuchoAberastain \nCupos limitados. Se ruega puntualidad y cumplir con el protocolo sanitario vigente.[/vc_column_text][/vc_column][/vc_row][vc_row][vc_column][vc_single_image image=»80353″ img_size=»full»][/vc_column][/vc_row] \n
URL:https://www.godoycruz.sisargentina.com/evento/lucho-aberastain-presenta-desde-adentro-1/
ATTACH;FMTTYPE=image/jpeg:https://www.godoycruz.sisargentina.com/wp-content/uploads/2021/08/WhatsApp-Image-2021-08-02-at-13.08.02.jpeg
END:VEVENT
END:VCALENDAR