BEGIN:VCALENDAR
VERSION:2.0
PRODID:-//Godoy Cruz - ECPv4.5.8.1//NONSGML v1.0//EN
CALSCALE:GREGORIAN
METHOD:PUBLISH
X-WR-CALNAME:Godoy Cruz
X-ORIGINAL-URL:https://www.godoycruz.sisargentina.com
X-WR-CALDESC:Events for Godoy Cruz
BEGIN:VEVENT
DTSTART;TZID=UTC-3:20231008T200000
DTEND;TZID=UTC-3:20231008T200000
DTSTAMP:20260421T013828
CREATED:20231005T170120Z
LAST-MODIFIED:20231005T170120Z
UID:104024-1696795200-1696795200@www.godoycruz.sisargentina.com
SUMMARY:Lucas Heredia presenta "Lo mínimo indispensable"
DESCRIPTION:[vc_row][vc_column][vc_column_text]El músico repasará el repertorio de sus cuatro discos solistas y versiones de obras fundamentales del cancionero popular latinoamericano. \nEn un paisaje lleno de detalles sonoros\, Lucas Heredia propone un hecho artístico con canciones que inician un viaje para conmover a quien escucha \nArtista invitado: Yoya Jofré. \nEntradas online disponibles en https://bit.ly/3tlwqwo[/vc_column_text][/vc_column][/vc_row][vc_row][vc_column][vc_single_image image=»104025″ img_size=»full»][/vc_column][/vc_row] \n
URL:https://www.godoycruz.sisargentina.com/evento/lucas-heredia-presenta-lo-minimo-indispensable/
LOCATION:Tomba 54\, Godoy Cruz\, Mendoza\, 5501\, Argentina
ATTACH;FMTTYPE=image/jpeg:https://www.godoycruz.sisargentina.com/wp-content/uploads/2023/10/370288458_642722474713332_202014663703935582_n.jpg
END:VEVENT
END:VCALENDAR