BEGIN:VCALENDAR
VERSION:2.0
PRODID:-//Godoy Cruz - ECPv4.5.8.1//NONSGML v1.0//EN
CALSCALE:GREGORIAN
METHOD:PUBLISH
X-WR-CALNAME:Godoy Cruz
X-ORIGINAL-URL:https://www.godoycruz.sisargentina.com
X-WR-CALDESC:Events for Godoy Cruz
BEGIN:VEVENT
DTSTART;TZID=UTC-3:20210520T210000
DTEND;TZID=UTC-3:20210520T210000
DTSTAMP:20260422T232125
CREATED:20210511T010117Z
LAST-MODIFIED:20210511T010117Z
UID:77517-1621544400-1621544400@www.godoycruz.sisargentina.com
SUMMARY:Los Pasajeros del Ascensor presentan "Hambre"
DESCRIPTION:[vc_row][vc_column][vc_column_text]La banda mendocina presenta su último disco con un recital en vivo. \nArtistas: Los Pasajeros del Ascensor. \nFederico Catalá\, Marcelo López\, Andrés de Casas\, Federico Scala\, Mauricio Verón\, Ariel Celaya y Eze Tuma. \nEntradas en venta:\nBoletería del Teatro Plaza (Colón 27\, Godoy Cruz). Horario de atención: de lunes a viernes\, de 8:30 a 14:30h.\nVía online: http://bit.ly/EntradasPasajerosdelAscensor \nCupos limitados. Se ruega puntualidad y cumplir con el protocolo sanitario vigente.[/vc_column_text][/vc_column][/vc_row][vc_row][vc_column][vc_single_image image=»77515″ img_size=»full»][/vc_column][/vc_row] \n
URL:https://www.godoycruz.sisargentina.com/evento/los-pasajeros-del-ascensor-presentan-hambre/
LOCATION:Colón 27\, Godoy Cruz\, Mendoza\, 5501\, Argentina
ATTACH;FMTTYPE=image/jpeg:https://www.godoycruz.sisargentina.com/wp-content/uploads/2021/05/WhatsApp-Image-2021-05-10-at-12.33.54.jpeg
END:VEVENT
END:VCALENDAR