BEGIN:VCALENDAR
VERSION:2.0
PRODID:-//Godoy Cruz - ECPv4.5.8.1//NONSGML v1.0//EN
CALSCALE:GREGORIAN
METHOD:PUBLISH
X-WR-CALNAME:Godoy Cruz
X-ORIGINAL-URL:https://www.godoycruz.sisargentina.com
X-WR-CALDESC:Events for Godoy Cruz
BEGIN:VEVENT
DTSTART;TZID=UTC-3:20230722T200000
DTEND;TZID=UTC-3:20230722T220000
DTSTAMP:20260421T081803
CREATED:20230703T141212Z
LAST-MODIFIED:20230703T141212Z
UID:101394-1690056000-1690063200@www.godoycruz.sisargentina.com
SUMMARY:Los 39 Escalones
DESCRIPTION:[vc_row][vc_column][vc_column_text]Adaptación teatral de la Obra maestra de Alfred Hitchcock. \n2 únicas funciones: 20 y 22 horas. \n«Los 39 escalones» es una novela de espías y una comedia desopilante\, con 150 personajes interpretados por 4 artistas. \nHa estado en la cartelera de Broadway\, Londres\, Madrid y 20 países en el mundo y fue galardonada con dos premios Tony y un Laurence Olivier. \nElenco: Facundo Arana; Guillermina Valdés; Fredy Villarreal y Maxi De La Cruz. \nDirección: Manuel González Gil. \nAdquirí tus entradas online en https://bit.ly/EntradasLos39Escalones o en la boletería del teatro (solo en efectivo)\, de lunes a sábado\, de 9 a 18.[/vc_column_text][/vc_column][/vc_row][vc_row][vc_column][vc_single_image image=»101395″ img_size=»full»][/vc_column][/vc_row] \n
URL:https://www.godoycruz.sisargentina.com/evento/los-39-escalones/
LOCATION:Colón 27\, Godoy Cruz\, Mendoza\, 5501\, Argentina
ATTACH;FMTTYPE=image/jpeg:https://www.godoycruz.sisargentina.com/wp-content/uploads/2023/07/355894322_606312921587537_2137204802914750923_n.jpg
END:VEVENT
END:VCALENDAR