BEGIN:VCALENDAR
VERSION:2.0
PRODID:-//Godoy Cruz - ECPv4.5.8.1//NONSGML v1.0//EN
CALSCALE:GREGORIAN
METHOD:PUBLISH
X-WR-CALNAME:Godoy Cruz
X-ORIGINAL-URL:https://www.godoycruz.sisargentina.com
X-WR-CALDESC:Events for Godoy Cruz
BEGIN:VEVENT
DTSTART;TZID=UTC-3:20181124T190000
DTEND;TZID=UTC-3:20181124T190000
DTSTAMP:20260425T024054
CREATED:20181122T163707Z
LAST-MODIFIED:20181122T163707Z
UID:55157-1543086000-1543086000@www.godoycruz.sisargentina.com
SUMMARY:Líbano en Mendoza
DESCRIPTION:[vc_row][vc_column][vc_column_text]Actividades para conmemorar el Aniversario de la Independencia de la República del Líbano. \nDanzas\, música\, stands de artesanías y gastronomía típica. \nParticipación de sociedades libanesas de la provincia. \nEntrada libre y gratuita.[/vc_column_text][/vc_column][/vc_row][vc_row][vc_column][vc_single_image image=»55158″ img_size=»full»][/vc_column][/vc_row] \n
URL:https://www.godoycruz.sisargentina.com/evento/libano-en-mendoza/
ATTACH;FMTTYPE=image/jpeg:https://www.godoycruz.sisargentina.com/wp-content/uploads/2018/11/IMG-20181113-WA0006.jpg
END:VEVENT
END:VCALENDAR