BEGIN:VCALENDAR
VERSION:2.0
PRODID:-//Godoy Cruz - ECPv4.5.8.1//NONSGML v1.0//EN
CALSCALE:GREGORIAN
METHOD:PUBLISH
X-WR-CALNAME:Godoy Cruz
X-ORIGINAL-URL:https://www.godoycruz.sisargentina.com
X-WR-CALDESC:Events for Godoy Cruz
BEGIN:VEVENT
DTSTART;TZID=UTC-3:20230908T213000
DTEND;TZID=UTC-3:20230908T213000
DTSTAMP:20260421T013642
CREATED:20230907T165511Z
LAST-MODIFIED:20230907T165511Z
UID:103240-1694208600-1694208600@www.godoycruz.sisargentina.com
SUMMARY:Leyendas del Tango
DESCRIPTION:[vc_row][vc_column][vc_column_text]Se viene una noche mágica para disfrutar de «Leyendas del tango»\, una velada para homenajear a grandes referentes del género qué dejaron su sello en diferentes generaciones. \nShow en vivo con orquesta\, bailarines y cantantes en vivo. \nHomenajes a Carlos Gardel\, Juan D’Arienzo\, Osvaldo Pugliese y Astor Piazzolla. \nEntradas online en https://bit.ly/LeyendasdelTango\no en la boletería del teatro\, de lunes a sábado de 9 a 18 hs.[/vc_column_text][/vc_column][/vc_row][vc_row][vc_column][vc_single_image image=»103241″ img_size=»full»][/vc_column][/vc_row] \n
URL:https://www.godoycruz.sisargentina.com/evento/leyendas-del-tango/
LOCATION:Colón 27\, Godoy Cruz\, Mendoza\, 5501\, Argentina
ATTACH;FMTTYPE=image/jpeg:https://www.godoycruz.sisargentina.com/wp-content/uploads/2023/09/374688386_627750696210510_5927775803670372453_n-1.jpg
END:VEVENT
END:VCALENDAR