BEGIN:VCALENDAR
VERSION:2.0
PRODID:-//Godoy Cruz - ECPv4.5.8.1//NONSGML v1.0//EN
CALSCALE:GREGORIAN
METHOD:PUBLISH
X-WR-CALNAME:Godoy Cruz
X-ORIGINAL-URL:https://www.godoycruz.sisargentina.com
X-WR-CALDESC:Events for Godoy Cruz
BEGIN:VEVENT
DTSTART;TZID=UTC-3:20230215T213000
DTEND;TZID=UTC-3:20230215T213000
DTSTAMP:20260421T154850
CREATED:20230215T165929Z
LAST-MODIFIED:20230215T165929Z
UID:97606-1676496600-1676496600@www.godoycruz.sisargentina.com
SUMMARY:Leer hace bien
DESCRIPTION:[vc_row][vc_column][vc_column_text]La lectura y la poesía se unen con la música en un encuentro único con el público. \nArtistas: Floramo y Gerardo Montenegro presentarán «¿Cómo baila un corazón?». \nTrae tu manta\, el equipo de mate y preparate para disfrutar! \nParque Estación Benegas.[/vc_column_text][/vc_column][/vc_row][vc_row][vc_column][vc_single_image image=»97607″ img_size=»full»][/vc_column][/vc_row] \n
URL:https://www.godoycruz.sisargentina.com/evento/leer-hace-bien-2/
LOCATION:Calles Av. del Trabajo y Panamericana
ATTACH;FMTTYPE=image/jpeg:https://www.godoycruz.sisargentina.com/wp-content/uploads/2023/02/b0abb61b-c9f7-44d8-8119-378fef22b997.jpg
END:VEVENT
END:VCALENDAR