BEGIN:VCALENDAR
VERSION:2.0
PRODID:-//Godoy Cruz - ECPv4.5.8.1//NONSGML v1.0//EN
CALSCALE:GREGORIAN
METHOD:PUBLISH
X-WR-CALNAME:Godoy Cruz
X-ORIGINAL-URL:https://www.godoycruz.sisargentina.com
X-WR-CALDESC:Events for Godoy Cruz
BEGIN:VEVENT
DTSTART;TZID=UTC-3:20240412T213000
DTEND;TZID=UTC-3:20240412T213000
DTSTAMP:20260420T120033
CREATED:20240408T174651Z
LAST-MODIFIED:20240408T174651Z
UID:108726-1712957400-1712957400@www.godoycruz.sisargentina.com
SUMMARY:Las Sirvientas
DESCRIPTION:[vc_row][vc_column][vc_column_text]Basada en Las Criadas\, de Jean Genet\, dos hermanas son las sirvientas de una elegante señora y planean asesinarla para salvarse de la infelicidad que atraviesan\, en esta comedia incómoda y desopilante. \nRodrigo Calderón\, director de Las Sirvientas\, tenía la intención de poner en escena un clásico post guerra y para conformar el equipo de trabajo eligió a Víctor Agüero\, Cecilia Villalva y Ana Laura «Turca» Nicoletti. \nDirección: Rodrigo Calderón. \nProducción Ejecutiva: Rodrigo Calderón. \nElenco: Ana Laura Nicoletti\, Victor Agüero\, Cecilia Villalva. \nAdaptación de texto: Josu Miel Parra. \nComprá tus entradas de manera online en https://bit.ly/43xHrsp o en la boletería del Teatro (Colón 27\, Godoy Cruz)\, de lunes a viernes\, de 9 a 16H.[/vc_column_text][/vc_column][/vc_row][vc_row][vc_column][vc_single_image image=»108727″ img_size=»full»][/vc_column][/vc_row] \n
URL:https://www.godoycruz.sisargentina.com/evento/las-sirvientas/
LOCATION:Colón 27\, Godoy Cruz\, Mendoza\, 5501\, Argentina
ATTACH;FMTTYPE=image/jpeg:https://www.godoycruz.sisargentina.com/wp-content/uploads/2024/04/WhatsApp-Image-2024-03-25-at-12.08.19.jpeg
END:VEVENT
END:VCALENDAR