BEGIN:VCALENDAR
VERSION:2.0
PRODID:-//Godoy Cruz - ECPv4.5.8.1//NONSGML v1.0//EN
CALSCALE:GREGORIAN
METHOD:PUBLISH
X-WR-CALNAME:Godoy Cruz
X-ORIGINAL-URL:https://www.godoycruz.sisargentina.com
X-WR-CALDESC:Events for Godoy Cruz
BEGIN:VEVENT
DTSTART;TZID=UTC-3:20190211T200000
DTEND;TZID=UTC-3:20190211T200000
DTSTAMP:20260424T235446
CREATED:20190208T152733Z
LAST-MODIFIED:20190208T152733Z
UID:56936-1549915200-1549915200@www.godoycruz.sisargentina.com
SUMMARY:“Las mujeres sostienen la mitad del cielo”
DESCRIPTION:[vc_row][vc_column][vc_column_text]Ciclo Arte en la B+M. \nMuestra Fotográfica sobre Mujeres en Astronomía IAU 100 Años. \nVisitas: de lunes a viernes\, de 8:00 a 19:00. Sábados de 9:00 a 13:30. \nEntrada libre y gratuita.[/vc_column_text][/vc_column][/vc_row][vc_row][vc_column][vc_single_image image=»56937″ img_size=»full»][/vc_column][/vc_row] \n
URL:https://www.godoycruz.sisargentina.com/evento/las-mujeres-sostienen-la-mitad-del-cielo/
LOCATION:Tomba 54\, Godoy Cruz\, Mendoza\, 5501\, Argentina
ATTACH;FMTTYPE=image/jpeg:https://www.godoycruz.sisargentina.com/wp-content/uploads/2019/02/A3-Arte-en-BM-febrero-1.jpg
END:VEVENT
END:VCALENDAR