BEGIN:VCALENDAR
VERSION:2.0
PRODID:-//Godoy Cruz - ECPv4.5.8.1//NONSGML v1.0//EN
CALSCALE:GREGORIAN
METHOD:PUBLISH
X-WR-CALNAME:Godoy Cruz
X-ORIGINAL-URL:https://www.godoycruz.sisargentina.com
X-WR-CALDESC:Events for Godoy Cruz
BEGIN:VEVENT
DTSTART;TZID=UTC-3:20240818T200000
DTEND;TZID=UTC-3:20240818T200000
DTSTAMP:20260422T102819
CREATED:20240813T151233Z
LAST-MODIFIED:20240813T151233Z
UID:113833-1724011200-1724011200@www.godoycruz.sisargentina.com
SUMMARY:Las que cantan - Canción latinoamericana
DESCRIPTION:[vc_row][vc_column][vc_column_text]Es un concierto que celebra el legado poético y musical de compositores y compositoras latinoamericanas\, tanto contemporáneos como históricos. \nOfrece un recorrido por canciones populares que han dejado una huella en la cultura musical de nuestra región. \nLa velada celebra nuestra herencia musical\, con Amira Mur\, María Araya\, Natalia Torres y Alejandra Bermejillo\, cantoras de Mendoza\, Catamarca y Chile. \nConseguí tu entrada online a través de https://bit.ly/LasQueCantan [/vc_column_text][/vc_column][/vc_row][vc_row][vc_column][vc_single_image image=»113835″ img_size=»full»][/vc_column][/vc_row] \n
URL:https://www.godoycruz.sisargentina.com/evento/las-cantan-cancion-latinoamericana/
LOCATION:Tomba 54\, Godoy Cruz\, Mendoza\, 5501\, Argentina
ATTACH;FMTTYPE=image/png:https://www.godoycruz.sisargentina.com/wp-content/uploads/2024/08/Flyer-Las-que-Cantan-Cuadrado.png
END:VEVENT
END:VCALENDAR