BEGIN:VCALENDAR
VERSION:2.0
PRODID:-//Godoy Cruz - ECPv4.5.8.1//NONSGML v1.0//EN
CALSCALE:GREGORIAN
METHOD:PUBLISH
X-WR-CALNAME:Godoy Cruz
X-ORIGINAL-URL:https://www.godoycruz.sisargentina.com
X-WR-CALDESC:Events for Godoy Cruz
BEGIN:VEVENT
DTSTART;TZID=UTC-3:20230917T170000
DTEND;TZID=UTC-3:20230917T170000
DTSTAMP:20260421T014236
CREATED:20230912T033717Z
LAST-MODIFIED:20230912T033717Z
UID:103347-1694970000-1694970000@www.godoycruz.sisargentina.com
SUMMARY:Las aventuras del explorador
DESCRIPTION:[vc_row][vc_column][vc_column_text]El espectáculo infantil del momento llega al Teatro Plaza\, en el marco de su exitosa gira nacional. \nCon una brillante actuación de Rodrigo Esmella (aclamada por la crítica) en el roll del explorador y un gran elenco. \nLa obra logra atrapar al espectador con un imponente despliegue escénico\, musicales educativos y efectos especiales\, logrando un show lúdico que entretiene de principio a fin. \nComprá tus entradas online en https://bit.ly/EntradasLasAventurasDelExplorador o en la boletería del teatro\, de lunes a sábado de 9 a 18 hs.[/vc_column_text][/vc_column][/vc_row][vc_row][vc_column][vc_single_image image=»103349″ img_size=»full»][/vc_column][/vc_row] \n
URL:https://www.godoycruz.sisargentina.com/evento/las-aventuras-del-explorador/
LOCATION:Colón 27\, Godoy Cruz\, Mendoza\, 5501\, Argentina
ATTACH;FMTTYPE=image/jpeg:https://www.godoycruz.sisargentina.com/wp-content/uploads/2023/09/Las-aventuras-del-explorador-Feed.jpeg
END:VEVENT
END:VCALENDAR