BEGIN:VCALENDAR
VERSION:2.0
PRODID:-//Godoy Cruz - ECPv4.5.8.1//NONSGML v1.0//EN
CALSCALE:GREGORIAN
METHOD:PUBLISH
X-WR-CALNAME:Godoy Cruz
X-ORIGINAL-URL:https://www.godoycruz.sisargentina.com
X-WR-CALDESC:Events for Godoy Cruz
BEGIN:VEVENT
DTSTART;TZID=UTC-3:20180116T103000
DTEND;TZID=UTC-3:20180116T103000
DTSTAMP:20260425T194937
CREATED:20180116T014524Z
LAST-MODIFIED:20180116T014524Z
UID:46168-1516098600-1516098600@www.godoycruz.sisargentina.com
SUMMARY:Lanzamiento de "Recrearte"
DESCRIPTION:[vc_row][vc_column][vc_column_text]Del 16 de enero al 25 de febrero. Entrada gratuita \nAgenda de actividades: \nLa Estación – sábados y domingos. 19.00 a 21.00 . Carpa Benegas \nInfinito por Descubrir (Para chicos entre 10 y 18 años) – miércoles\, jueves y viernes. 10.00 a 13.00 y 17.00 a 20.00 .Carpa Benegas \nMuseo Ferroviario: \nVisitas – martes a viernes. 18:00 a 21:00 \nTalleres de folclore – martes\, miércoles y jueves. 19:30 a 21:00 \nEspectáculos de títeres y magia (desde el 19 de enero) – viernes\, sábado y domingo. 20.00. Domo Ferroviario \nCine para adultos (desde el 19 de enero) – viernes\, sábado y domingo. 22.00. Domo Ferroviario \nUnión Vecinal Bianchi: \nYoga para adultos – martes y jueves.  16:30 a 17:30 \nZumba para adultos – martes y jueves . 18:30 a 19:30 \nPilates para adultos – martes y jueves. 19:30 a 20:30[/vc_column_text][/vc_column][/vc_row][vc_row][vc_column][vc_single_image image=»46161″ img_size=»full»][/vc_column][/vc_row][vc_row][vc_column][vc_gmaps link=»#E-8_JTNDaWZyYW1lJTIwc3JjJTNEJTIyaHR0cHMlM0ElMkYlMkZ3d3cuZ29vZ2xlLmNvbSUyRm1hcHMlMkZlbWJlZCUzRnBiJTNEJTIxMW0xOCUyMTFtMTIlMjExbTMlMjExZDMzNDcuOTQ3MjYxMTEyNzg2JTIxMmQtNjguODU1ODg3NDg1MTk4MjQlMjEzZC0zMi45NTI0MDE3ODA5MTkzNDUlMjEybTMlMjExZjAlMjEyZjAlMjEzZjAlMjEzbTIlMjExaTEwMjQlMjEyaTc2OCUyMTRmMTMuMSUyMTNtMyUyMTFtMiUyMTFzMHg5NjdlMGJiNDE2NzNhYWQ1JTI1M0EweDRkNmI3M2Q5MGZmNWZjYWYlMjEyc1BhcnF1ZSUyQkVzdGFjaW9uJTJCQmVuZWdhcyUyMTVlMCUyMTNtMiUyMTFzZXMtNDE5JTIxMnNhciUyMTR2MTUxNjA2NzAwMjQxMyUyMiUyMHdpZHRoJTNEJTIyNDAwJTIyJTIwaGVpZ2h0JTNEJTIyMzAwJTIyJTIwZnJhbWVib3JkZXIlM0QlMjIwJTIyJTIwc3R5bGUlM0QlMjJib3JkZXIlM0EwJTIyJTIwYWxsb3dmdWxsc2NyZWVuJTNFJTNDJTJGaWZyYW1lJTNF»][/vc_column][/vc_row] \n
URL:https://www.godoycruz.sisargentina.com/evento/lanzamiento-de-recrearte/
ATTACH;FMTTYPE=image/jpeg:https://www.godoycruz.sisargentina.com/wp-content/uploads/2018/01/recrearte-placa.jpg
END:VEVENT
END:VCALENDAR