BEGIN:VCALENDAR
VERSION:2.0
PRODID:-//Godoy Cruz - ECPv4.5.8.1//NONSGML v1.0//EN
CALSCALE:GREGORIAN
METHOD:PUBLISH
X-WR-CALNAME:Godoy Cruz
X-ORIGINAL-URL:https://www.godoycruz.sisargentina.com
X-WR-CALDESC:Events for Godoy Cruz
BEGIN:VEVENT
DTSTART;TZID=UTC-3:20190817T220000
DTEND;TZID=UTC-3:20190817T220000
DTSTAMP:20260424T102804
CREATED:20190718T163205Z
LAST-MODIFIED:20190718T163205Z
UID:61108-1566079200-1566079200@www.godoycruz.sisargentina.com
SUMMARY:El Lado B del Amor
DESCRIPTION:[vc_row][vc_column][vc_column_text]Gabriel Rolón vuelve a Mendoza con su nuevo espectáculo. \nVenta de entradas en la boletería del Teatro Plaza (Colón 27) y en www.tuentrada.com[/vc_column_text][/vc_column][/vc_row][vc_row][vc_column][vc_single_image image=»61109″ img_size=»full»][/vc_column][/vc_row] \n
URL:https://www.godoycruz.sisargentina.com/evento/lado-b-del-amor/
LOCATION:Colón 27\, Godoy Cruz\, Mendoza\, 5501\, Argentina
ATTACH;FMTTYPE=image/jpeg:https://www.godoycruz.sisargentina.com/wp-content/uploads/2019/07/Lado-B-del-amor.jpg
END:VEVENT
END:VCALENDAR