BEGIN:VCALENDAR
VERSION:2.0
PRODID:-//Godoy Cruz - ECPv4.5.8.1//NONSGML v1.0//EN
CALSCALE:GREGORIAN
METHOD:PUBLISH
X-WR-CALNAME:Godoy Cruz
X-ORIGINAL-URL:https://www.godoycruz.sisargentina.com
X-WR-CALDESC:Events for Godoy Cruz
BEGIN:VEVENT
DTSTART;TZID=UTC-3:20191103T160000
DTEND;TZID=UTC-3:20191103T160000
DTSTAMP:20260424T030653
CREATED:20191030T142716Z
LAST-MODIFIED:20191030T142716Z
UID:64019-1572796800-1572796800@www.godoycruz.sisargentina.com
SUMMARY:la Vaca Lola en vivo
DESCRIPTION:[vc_row][vc_column][vc_column_text]Espectáculo musical para toda la familia. \nEntradas en venta en boletería del Teatro (Colón 27) y www.tuentrada.com[/vc_column_text][/vc_column][/vc_row][vc_row][vc_column][vc_single_image image=»64020″ img_size=»full»][/vc_column][/vc_row] \n
URL:https://www.godoycruz.sisargentina.com/evento/la-vaca-lola-vivo/
LOCATION:Colón 27\, Godoy Cruz\, Mendoza\, 5501\, Argentina
ATTACH;FMTTYPE=image/jpeg:https://www.godoycruz.sisargentina.com/wp-content/uploads/2019/10/Vaca-Lola.jpg
END:VEVENT
END:VCALENDAR