BEGIN:VCALENDAR
VERSION:2.0
PRODID:-//Godoy Cruz - ECPv4.5.8.1//NONSGML v1.0//EN
CALSCALE:GREGORIAN
METHOD:PUBLISH
X-WR-CALNAME:Godoy Cruz
X-ORIGINAL-URL:https://www.godoycruz.sisargentina.com
X-WR-CALDESC:Events for Godoy Cruz
BEGIN:VEVENT
DTSTART;TZID=UTC-3:20210430T200000
DTEND;TZID=UTC-3:20210430T210000
DTSTAMP:20260423T003536
CREATED:20210427T170444Z
LAST-MODIFIED:20210427T170444Z
UID:77036-1619812800-1619816400@www.godoycruz.sisargentina.com
SUMMARY:La Skandalosa Tripulación presenta "Hoy más que Ayer"
DESCRIPTION:[vc_row][vc_column][vc_column_text]La popular banda mendocina cierra su «Gira Cuyana» en el Teatro Plaza. \nLa Big Band presenta el recital “Hoy más que Ayer”\, donde repasará sus grandes éxitos. \nAclaración:\nSi compraste tu entrada para el 2 de abril será válida para el show del 30 de abril.\nSi compraste tu entrada para el día 3 de abril será valida para el show del 1º de mayo. \nApertura de puertas:20 horas. Comienzo del recital :21 horas (muy puntual) \nEntradas en venta:\nBoletería del Teatro Plaza (Colón 27\, Godoy Cruz). Horario de atención: de lunes a viernes\, de 8:30 a 14:30h.\nVía online: https://bit.ly/EntradasLaSkandalosa \nCupos limitados. Se ruega puntualidad y cumplir con el protocolo sanitario vigente.[/vc_column_text][/vc_column][/vc_row][vc_row][vc_column][vc_single_image image=»77037″ img_size=»full»][/vc_column][/vc_row] \n
URL:https://www.godoycruz.sisargentina.com/evento/la-skandalosa-tripulacion-presenta-hoy-mas-ayer/
LOCATION:Colón 27\, Godoy Cruz\, Mendoza\, 5501\, Argentina
ATTACH;FMTTYPE=image/jpeg:https://www.godoycruz.sisargentina.com/wp-content/uploads/2021/04/WhatsApp-Image-2021-04-27-at-13.21.55.jpeg
END:VEVENT
END:VCALENDAR