BEGIN:VCALENDAR
VERSION:2.0
PRODID:-//Godoy Cruz - ECPv4.5.8.1//NONSGML v1.0//EN
CALSCALE:GREGORIAN
METHOD:PUBLISH
X-WR-CALNAME:Godoy Cruz
X-ORIGINAL-URL:https://www.godoycruz.sisargentina.com
X-WR-CALDESC:Events for Godoy Cruz
BEGIN:VEVENT
DTSTART;TZID=UTC-3:20230729T210000
DTEND;TZID=UTC-3:20230729T210000
DTSTAMP:20260421T050623
CREATED:20230706T171629Z
LAST-MODIFIED:20230706T171629Z
UID:101507-1690664400-1690664400@www.godoycruz.sisargentina.com
SUMMARY:La Sanata
DESCRIPTION:[vc_row][vc_column][vc_column_text]Edición especial 27 años. \nVuelve al Teatro Plaza esta obra que se convirtió en un clásico del humor mendocino. \nBasada en cuentos del escritor y humorista Roberto Fontanarrosa. \nLa Sanata muestra una amplia gama de “personajes” que se encuentran fácilmente en\ncualquier bar de Argentina\, que hacen gala de su verborragia y “sapiencia”. \nActores: Ernesto «Flaco» Suárez y Marcelo Lacerna. \nDirección y puesta en escena: Ernesto Suárez. \nPresentación especial: Leandro Lacerna. \nAdquirí tus entradas online en https://bit.ly/EntradasLaSanata o en la boletería del teatro (solo en efectivo) de lunes a sábado\, de 9 a 18.[/vc_column_text][/vc_column][/vc_row][vc_row][vc_column][vc_single_image image=»101508″ img_size=»full»][/vc_column][/vc_row] \n
URL:https://www.godoycruz.sisargentina.com/evento/la-sanata-2/
LOCATION:Colón 27\, Godoy Cruz\, Mendoza\, 5501\, Argentina
ATTACH;FMTTYPE=image/jpeg:https://www.godoycruz.sisargentina.com/wp-content/uploads/2023/07/356658439_606303341588495_7575120538131234441_n.jpg
END:VEVENT
END:VCALENDAR