BEGIN:VCALENDAR
VERSION:2.0
PRODID:-//Godoy Cruz - ECPv4.5.8.1//NONSGML v1.0//EN
CALSCALE:GREGORIAN
METHOD:PUBLISH
X-WR-CALNAME:Godoy Cruz
X-ORIGINAL-URL:https://www.godoycruz.sisargentina.com
X-WR-CALDESC:Events for Godoy Cruz
BEGIN:VEVENT
DTSTART;TZID=UTC-3:20171109T210000
DTEND;TZID=UTC-3:20171109T210000
DTSTAMP:20260426T000935
CREATED:20171106T161635Z
LAST-MODIFIED:20171106T161635Z
UID:43818-1510261200-1510261200@www.godoycruz.sisargentina.com
SUMMARY:La Radio Comunitaria Cuyum presenta el ciclo Pura Cepa Mendocina
DESCRIPTION:[vc_row][vc_column][vc_column_text]La expresión se hace canción con la actuación de Raúl Aballay\, Alejandro Sicardi y Raúl Zamarian.[/vc_column_text][/vc_column][/vc_row][vc_row][vc_column][vc_single_image image=»43819″ img_size=»full»][/vc_column][/vc_row] \n
URL:https://www.godoycruz.sisargentina.com/evento/la-radio-comunitaria-cuyum-presenta-ciclo-pura-cepa-mendocina/
LOCATION:Tomba 54\, Godoy Cruz\, Mendoza\, 5501\, Argentina
ATTACH;FMTTYPE=image/jpeg:https://www.godoycruz.sisargentina.com/wp-content/uploads/2017/11/web-pura-cepa.jpg
END:VEVENT
END:VCALENDAR