BEGIN:VCALENDAR
VERSION:2.0
PRODID:-//Godoy Cruz - ECPv4.5.8.1//NONSGML v1.0//EN
CALSCALE:GREGORIAN
METHOD:PUBLISH
X-WR-CALNAME:Godoy Cruz
X-ORIGINAL-URL:https://www.godoycruz.sisargentina.com
X-WR-CALDESC:Events for Godoy Cruz
BEGIN:VEVENT
DTSTART;TZID=UTC-3:20190525T120000
DTEND;TZID=UTC-3:20190525T120000
DTSTAMP:20260424T161200
CREATED:20190520T173633Z
LAST-MODIFIED:20190520T173633Z
UID:59416-1558785600-1558785600@www.godoycruz.sisargentina.com
SUMMARY:La Peña del Pedemonte
DESCRIPTION:[vc_row][vc_column][vc_column_text]Se viene una gran fiesta con lo mejor de nuestra tradición. \nLocro solidario y shows folclóricos. \nMúsicos en vivo: Canto Hermano; Maxi Molina y La Vieja Serenata. \nEntrada libre y gratuita. \n [/vc_column_text][/vc_column][/vc_row][vc_row][vc_column][vc_single_image image=»59417″ img_size=»full»][/vc_column][/vc_row] \n
URL:https://www.godoycruz.sisargentina.com/evento/la-pena-del-pedemonte/
ATTACH;FMTTYPE=image/jpeg:https://www.godoycruz.sisargentina.com/wp-content/uploads/2019/05/IMG-20190514-WA0021.jpg
END:VEVENT
END:VCALENDAR