BEGIN:VCALENDAR
VERSION:2.0
PRODID:-//Godoy Cruz - ECPv4.5.8.1//NONSGML v1.0//EN
CALSCALE:GREGORIAN
METHOD:PUBLISH
X-WR-CALNAME:Godoy Cruz
X-ORIGINAL-URL:https://www.godoycruz.sisargentina.com
X-WR-CALDESC:Events for Godoy Cruz
BEGIN:VEVENT
DTSTART;TZID=UTC-3:20220529T193000
DTEND;TZID=UTC-3:20220529T193000
DTSTAMP:20260422T042948
CREATED:20220528T021414Z
LAST-MODIFIED:20220528T021414Z
UID:89835-1653852600-1653852600@www.godoycruz.sisargentina.com
SUMMARY:La Orquesta Barroca de Mendoza presenta “El Barbero Rococó y sus Juguetes”
DESCRIPTION:[vc_row][vc_column][vc_single_image image=»89836″ img_size=»full»][/vc_column][/vc_row][vc_row][vc_column][vc_column_text]La Orquesta Barroca de Mendoza presenta “El Barbero Rococó y sus Juguetes” en el Teatro Plaza\, en ensamble que contendrá la “Sinfonía de los Juguetes” de Joseph Haydn; las “Variaciones sobre un tema Rococó” de Piotr Ilich Tchaikovski y\, para cerrar; “El Barbero de Sevilla”\, de Gioachino Rossini.[/vc_column_text][/vc_column][/vc_row] \n
URL:https://www.godoycruz.sisargentina.com/evento/la-orquesta-barroca-mendoza-presenta-barbero-rococo-juguetes/
LOCATION:Colon 27\, Godoy Cruz\, Mendoza\, Argentina
ATTACH;FMTTYPE=image/png:https://www.godoycruz.sisargentina.com/wp-content/uploads/2022/05/Orquesta-Barroca.png
END:VEVENT
END:VCALENDAR