BEGIN:VCALENDAR
VERSION:2.0
PRODID:-//Godoy Cruz - ECPv4.5.8.1//NONSGML v1.0//EN
CALSCALE:GREGORIAN
METHOD:PUBLISH
X-WR-CALNAME:Godoy Cruz
X-ORIGINAL-URL:https://www.godoycruz.sisargentina.com
X-WR-CALDESC:Events for Godoy Cruz
BEGIN:VEVENT
DTSTART;TZID=UTC-3:20220528T220000
DTEND;TZID=UTC-3:20220528T220000
DTSTAMP:20260422T061845
CREATED:20220528T012310Z
LAST-MODIFIED:20220528T012310Z
UID:89816-1653775200-1653775200@www.godoycruz.sisargentina.com
SUMMARY:“La nube y el león” en Zona Teatro Godoy Cruz
DESCRIPTION:[vc_row][vc_column][vc_column_text]La obra de teatro “La nube y el león” de  Ángel David Maya formará parte de la programación de Zona Teatro Godoy Cruz en la Enkosala Gladys Ravalle.[/vc_column_text][/vc_column][/vc_row][vc_row][vc_column][vc_single_image image=»89817″ img_size=»full»][/vc_column][/vc_row] \n
URL:https://www.godoycruz.sisargentina.com/evento/la-nube-leon-zona-teatro-godoy-cruz/
END:VEVENT
END:VCALENDAR