BEGIN:VCALENDAR
VERSION:2.0
PRODID:-//Godoy Cruz - ECPv4.5.8.1//NONSGML v1.0//EN
CALSCALE:GREGORIAN
METHOD:PUBLISH
X-WR-CALNAME:Godoy Cruz
X-ORIGINAL-URL:https://www.godoycruz.sisargentina.com
X-WR-CALDESC:Events for Godoy Cruz
BEGIN:VEVENT
DTSTART;TZID=UTC-3:20230804T203000
DTEND;TZID=UTC-3:20230804T223000
DTSTAMP:20260421T045935
CREATED:20230724T162900Z
LAST-MODIFIED:20230724T162900Z
UID:101904-1691181000-1691188200@www.godoycruz.sisargentina.com
SUMMARY:La Jenny Tour 2023
DESCRIPTION:[vc_row][vc_column][vc_column_text]¡2 funciones! \nEl comediante Wali Iturriaga llega con su galería de personajes a Godoy Cruz. \nEl actor\, músico y cantante argentino ofrece una disparatada obra para toda la familia\, en la que el público podrá sumergirse en las aventuras (y desventuras) de «La Jenny» y «Juan Carlos»\, que son un fenómeno en redes sociales. \nParticipación especial: Mity Pérez \nComprá tus entradas online en  https://bit.ly/EntradasLaJennyTour2023 o en la boletería del teatro (solo efectivo)\, de lunes a sábado\, de 9 a 18H.[/vc_column_text][/vc_column][/vc_row][vc_row][vc_column][vc_single_image image=»101905″ img_size=»full»][/vc_column][/vc_row] \n
URL:https://www.godoycruz.sisargentina.com/evento/la-jenny-tour-2023/
LOCATION:Colón 27\, Godoy Cruz\, Mendoza\, 5501\, Argentina
ATTACH;FMTTYPE=image/jpeg:https://www.godoycruz.sisargentina.com/wp-content/uploads/2023/07/MDIA-1f953cf9.jpg
END:VEVENT
END:VCALENDAR