BEGIN:VCALENDAR
VERSION:2.0
PRODID:-//Godoy Cruz - ECPv4.5.8.1//NONSGML v1.0//EN
CALSCALE:GREGORIAN
METHOD:PUBLISH
X-WR-CALNAME:Godoy Cruz
X-ORIGINAL-URL:https://www.godoycruz.sisargentina.com
X-WR-CALDESC:Events for Godoy Cruz
BEGIN:VEVENT
DTSTART;TZID=UTC-3:20180525T000000
DTEND;TZID=UTC-3:20180525T000000
DTSTAMP:20260425T134656
CREATED:20180518T154225Z
LAST-MODIFIED:20180524T174953Z
UID:49484-1527206400-1527206400@www.godoycruz.sisargentina.com
SUMMARY:La Gran Peña del 25
DESCRIPTION:[vc_row][vc_column][vc_column_text]Se viene una peña folklórica para disfrutar en familia\, con música\, danzas y comidas típicas. \nLocro solidario(canje de una caja de leche en polvo de 800gr.) . Show en vivo. \nArtistas:Alumnos de los talleres de danzas folklóricas del municipio; José Molina “El Viñatero Cantor” ; Ballet Folklórico Municipal; Ballet Sangre Cuyana; Yolanda y Carla Navarro + 18 Cuerdas; Dúo Ceverino – Chavero y Lisandro Bertín. \nParque Estación Benegas (Av. del Trabajo y Panamericana).[/vc_column_text][/vc_column][/vc_row][vc_row][vc_column][vc_single_image image=»49649″ img_size=»full»][/vc_column][/vc_row][vc_row][vc_column][vc_gmaps link=»#E-8_JTNDaWZyYW1lJTIwc3JjJTNEJTIyaHR0cHMlM0ElMkYlMkZ3d3cuZ29vZ2xlLmNvbSUyRm1hcHMlMkZlbWJlZCUzRnBiJTNEJTIxMW0xOCUyMTFtMTIlMjExbTMlMjExZDMzNDcuOTQ3MjYxMTEyNzg2MiUyMTJkLTY4Ljg1NTg4NzQ4NTE5ODI3JTIxM2QtMzIuOTUyNDAxNzgwOTE5MzQlMjEybTMlMjExZjAlMjEyZjAlMjEzZjAlMjEzbTIlMjExaTEwMjQlMjEyaTc2OCUyMTRmMTMuMSUyMTNtMyUyMTFtMiUyMTFzMHg5NjdlMGJiNDE2NzNhYWQ1JTI1M0EweDRkNmI3M2Q5MGZmNWZjYWYlMjEyc1BhcnF1ZSUyQkVzdGFjaW9uJTJCQmVuZWdhcyUyMTVlMCUyMTNtMiUyMTFzZXMtNDE5JTIxMnNhciUyMTR2MTUyNjY1NzkyMTU4OCUyMiUyMHdpZHRoJTNEJTIyNDAwJTIyJTIwaGVpZ2h0JTNEJTIyMzAwJTIyJTIwZnJhbWVib3JkZXIlM0QlMjIwJTIyJTIwc3R5bGUlM0QlMjJib3JkZXIlM0EwJTIyJTIwYWxsb3dmdWxsc2NyZWVuJTNFJTNDJTJGaWZyYW1lJTNF»][/vc_column][/vc_row] \n
URL:https://www.godoycruz.sisargentina.com/evento/la-gran-pena-del-25/
ATTACH;FMTTYPE=image/jpeg:https://www.godoycruz.sisargentina.com/wp-content/uploads/2018/05/Gráfica-25-OK.jpg
END:VEVENT
END:VCALENDAR