BEGIN:VCALENDAR
VERSION:2.0
PRODID:-//Godoy Cruz - ECPv4.5.8.1//NONSGML v1.0//EN
CALSCALE:GREGORIAN
METHOD:PUBLISH
X-WR-CALNAME:Godoy Cruz
X-ORIGINAL-URL:https://www.godoycruz.sisargentina.com
X-WR-CALDESC:Events for Godoy Cruz
BEGIN:VEVENT
DTSTART;TZID=UTC-3:20171117T210000
DTEND;TZID=UTC-3:20171117T210000
DTSTAMP:20260425T223858
CREATED:20171106T175008Z
LAST-MODIFIED:20171106T175227Z
UID:43851-1510952400-1510952400@www.godoycruz.sisargentina.com
SUMMARY:La Bolivian + Fly People en Vivo
DESCRIPTION:[vc_row][vc_column][vc_column_text]Dos bandas y un combo de swing y reggae para disfrutar sin límites.[/vc_column_text][/vc_column][/vc_row][vc_row][vc_column][vc_single_image image=»43852″ img_size=»full»][/vc_column][/vc_row] \n
URL:https://www.godoycruz.sisargentina.com/evento/la-bolivian-fly-people-vivo/
LOCATION:Tomba 54\, Godoy Cruz\, Mendoza\, 5501\, Argentina
ATTACH;FMTTYPE=image/jpeg:https://www.godoycruz.sisargentina.com/wp-content/uploads/2017/11/web-bolivian.jpg
END:VEVENT
END:VCALENDAR