BEGIN:VCALENDAR
VERSION:2.0
PRODID:-//Godoy Cruz - ECPv4.5.8.1//NONSGML v1.0//EN
CALSCALE:GREGORIAN
METHOD:PUBLISH
X-WR-CALNAME:Godoy Cruz
X-ORIGINAL-URL:https://www.godoycruz.sisargentina.com
X-WR-CALDESC:Events for Godoy Cruz
BEGIN:VEVENT
DTSTART;TZID=UTC-3:20210815T150000
DTEND;TZID=UTC-3:20210815T150000
DTSTAMP:20260422T185058
CREATED:20210811T161220Z
LAST-MODIFIED:20210811T161220Z
UID:80583-1629039600-1629039600@www.godoycruz.sisargentina.com
SUMMARY:Kermes de la Niñez
DESCRIPTION:[vc_row][vc_column][vc_column_text]Gran Festejo del Día del Niño en el Espacio Arizu. \nEntrada gratuita\, limitada y por orden de llegada. \nCupo: 200 localidades. \nSorteos: una bicicleta por día\, libros y kits de huerta. \nJuegos\, intervenciones artisticas\, música infantil y rincón de lectura. \nShow (carpa): Porotita y Tatán… en sus 3 versiones. \nRetirá tu entrada en Arizu. \nCupos limitados. Se ruega puntualidad y cumplir con el protocolo sanitario vigente.[/vc_column_text][/vc_column][/vc_row][vc_row][vc_column][vc_single_image image=»80577″ img_size=»full»][/vc_column][/vc_row] \n
URL:https://www.godoycruz.sisargentina.com/evento/kermes-la-ninez-3/
ATTACH;FMTTYPE=image/jpeg:https://www.godoycruz.sisargentina.com/wp-content/uploads/2021/08/229696774_2084157111740556_2212870301268135361_n.jpg
END:VEVENT
END:VCALENDAR