BEGIN:VCALENDAR
VERSION:2.0
PRODID:-//Godoy Cruz - ECPv4.5.8.1//NONSGML v1.0//EN
CALSCALE:GREGORIAN
METHOD:PUBLISH
X-WR-CALNAME:Godoy Cruz
X-ORIGINAL-URL:https://www.godoycruz.sisargentina.com
X-WR-CALDESC:Events for Godoy Cruz
BEGIN:VEVENT
DTSTART;TZID=UTC-3:20210328T200000
DTEND;TZID=UTC-3:20210328T200000
DTSTAMP:20260423T020548
CREATED:20210326T163552Z
LAST-MODIFIED:20210326T163552Z
UID:76146-1616961600-1616961600@www.godoycruz.sisargentina.com
SUMMARY:Juntos
DESCRIPTION:[vc_row][vc_column][vc_column_text]Espectáculo musical en vivo. \nArtistas: Carina Palacios y Manolo Palacios. Dúo Nuevo Cuyo \nEntradas en venta:\nBoletería del Teatro Plaza (Colón 27\, Godoy Cruz). Horario de atención: de lunes a viernes\, de 9 a 14h.\nVía Online:http://bit.ly/EntradasJuntos \nCupos limitados por protocolo.[/vc_column_text][/vc_column][/vc_row][vc_row][vc_column][vc_single_image image=»76147″ img_size=»full»][/vc_column][/vc_row] \n
URL:https://www.godoycruz.sisargentina.com/evento/juntos/
LOCATION:Colón 27\, Godoy Cruz\, Mendoza\, 5501\, Argentina
ATTACH;FMTTYPE=image/jpeg:https://www.godoycruz.sisargentina.com/wp-content/uploads/2021/03/WhatsApp-Image-2021-03-25-at-13.05.20.jpeg
END:VEVENT
END:VCALENDAR