BEGIN:VCALENDAR
VERSION:2.0
PRODID:-//Godoy Cruz - ECPv4.5.8.1//NONSGML v1.0//EN
CALSCALE:GREGORIAN
METHOD:PUBLISH
X-WR-CALNAME:Godoy Cruz
X-ORIGINAL-URL:https://www.godoycruz.sisargentina.com
X-WR-CALDESC:Events for Godoy Cruz
BEGIN:VEVENT
DTSTART;TZID=UTC-3:20210807T203000
DTEND;TZID=UTC-3:20210807T203000
DTSTAMP:20260422T202058
CREATED:20210802T184028Z
LAST-MODIFIED:20210802T184028Z
UID:80238-1628368200-1628368200@www.godoycruz.sisargentina.com
SUMMARY:Juegos  a la hora de la siesta
DESCRIPTION:[vc_row][vc_column][vc_column_text]Obra teatral de Roma Mahieu. \nDirección: Mauro Winkler. \nAsistencia de Dirección: Ana Gómez. \nActuación: Maximiliano Correa\, Rocío Vargas Imazio\, Alfredo Gallardo\, Florencia Manino\, Nahuel Arce\, Analía Maza\, Eduardo Sosa y Maximiliano Villegas. \nEntradas en venta:\nBoletería del Teatro Plaza (Colón 27\, Godoy Cruz). Horario de atención: de lunes a viernes\, de 8:30 a 14:00h.\nVía online: https://bit.ly/EntradasJuegosHrSiesta \nCupos limitados. Se ruega puntualidad y cumplir con el protocolo sanitario vigente.[/vc_column_text][/vc_column][/vc_row][vc_row][vc_column][vc_single_image image=»80239″ img_size=»full»][/vc_column][/vc_row] \n
URL:https://www.godoycruz.sisargentina.com/evento/juegos-la-hora-la-siesta-2/
LOCATION:Colón 27\, Godoy Cruz\, Mendoza\, 5501\, Argentina
ATTACH;FMTTYPE=image/jpeg:https://www.godoycruz.sisargentina.com/wp-content/uploads/2021/08/225561083_3639892026112450_6329226648027916637_n.jpg
END:VEVENT
END:VCALENDAR