BEGIN:VCALENDAR
VERSION:2.0
PRODID:-//Godoy Cruz - ECPv4.5.8.1//NONSGML v1.0//EN
CALSCALE:GREGORIAN
METHOD:PUBLISH
X-WR-CALNAME:Godoy Cruz
X-ORIGINAL-URL:https://www.godoycruz.sisargentina.com
X-WR-CALDESC:Events for Godoy Cruz
BEGIN:VEVENT
DTSTART;TZID=UTC-3:20240628T213000
DTEND;TZID=UTC-3:20240628T213000
DTSTAMP:20260420T083055
CREATED:20240606T150753Z
LAST-MODIFIED:20240624T130619Z
UID:111150-1719610200-1719610200@www.godoycruz.sisargentina.com
SUMMARY:Javier Casetti en Concierto presenta Vintage 3.0
DESCRIPTION:[vc_row][vc_column][vc_column_text]El destacado saxofonista mendocino de fama internacional presenta su nuevo espectáculo: Vintage 3.0. \nLuego de su exitoso paso por la franquicia Got Talent Argentina llega al Teatro Plaza como parte de su gira 2024. \nEl repertorio incluye a grandes músicos como Sting\, Phil Collins\, Lionel Richie\, Elton John\, Frank Sinatra\, The Beatles o Herb Albert\, entre otros. \nEl invitado especial de esta noche única será el comediante\, cantante y bailarín Adrián Sorrentino. \nLas entradas se pueden obtener vía online en https://bit.ly/EntradasConciertoCasetti o en la boletería del teatro (Colón 27\, Godoy Cruz)\, de lunes a viernes de 9 a 15hs.[/vc_column_text][/vc_column][/vc_row][vc_row][vc_column][vc_single_image image=»111151″ img_size=»full»][/vc_column][/vc_row] \n
URL:https://www.godoycruz.sisargentina.com/evento/javier-casetti-concierto-presenta-vintage-3-0-2/
LOCATION:Colón 27\, Godoy Cruz\, Mendoza\, 5501\, Argentina
ATTACH;FMTTYPE=image/jpeg:https://www.godoycruz.sisargentina.com/wp-content/uploads/2024/06/MDIA-d24c2343.jpg
END:VEVENT
END:VCALENDAR