BEGIN:VCALENDAR
VERSION:2.0
PRODID:-//Godoy Cruz - ECPv4.5.8.1//NONSGML v1.0//EN
CALSCALE:GREGORIAN
METHOD:PUBLISH
X-WR-CALNAME:Godoy Cruz
X-ORIGINAL-URL:https://www.godoycruz.sisargentina.com
X-WR-CALDESC:Events for Godoy Cruz
BEGIN:VEVENT
DTSTART;TZID=UTC-3:20210117T213000
DTEND;TZID=UTC-3:20210117T213000
DTSTAMP:20260423T044900
CREATED:20210108T151812Z
LAST-MODIFIED:20210108T151812Z
UID:73794-1610919000-1610919000@www.godoycruz.sisargentina.com
SUMMARY:Javier Calamaro
DESCRIPTION:[vc_row][vc_column][vc_column_text]El cantante y compositor Javier Calamaro repasa sus grandes éxitos en vivo. \nEntradas en venta: \nhttp://bit.ly/EntradasJavierCalamaro \nBoletería del teatro (lun. a vie. de 9 a 13 hs.) \nSe recomienda llegar al teatro al menos media hora antes del comienzo de la función para cumplir con los protocolos pertinentes. \nSerá obligatorio el uso de tapabocas y se deberá respetar el distanciamiento.[/vc_column_text][/vc_column][/vc_row][vc_row][vc_column][vc_single_image image=»73795″ img_size=»full»][/vc_column][/vc_row] \n
URL:https://www.godoycruz.sisargentina.com/evento/javier-calamaro/
LOCATION:Colón 27\, Godoy Cruz\, Mendoza\, 5501\, Argentina
ATTACH;FMTTYPE=image/jpeg:https://www.godoycruz.sisargentina.com/wp-content/uploads/2021/01/WhatsApp-Image-2021-01-08-at-10.12.25.jpeg
END:VEVENT
END:VCALENDAR