BEGIN:VCALENDAR
VERSION:2.0
PRODID:-//Godoy Cruz - ECPv4.5.8.1//NONSGML v1.0//EN
CALSCALE:GREGORIAN
METHOD:PUBLISH
X-WR-CALNAME:Godoy Cruz
X-ORIGINAL-URL:https://www.godoycruz.sisargentina.com
X-WR-CALDESC:Events for Godoy Cruz
BEGIN:VEVENT
DTSTART;TZID=UTC-3:20190520T150000
DTEND;TZID=UTC-3:20190520T150000
DTSTAMP:20260424T161524
CREATED:20190515T171630Z
LAST-MODIFIED:20190515T171630Z
UID:59249-1558364400-1558364400@www.godoycruz.sisargentina.com
SUMMARY:IV Edición de la Semana de los Museos
DESCRIPTION:[vc_row][vc_column][vc_column_text]Concurso de dibujo. Temá: “Vida Ferroviaria”. Categorías: niños\, jóvenes\, adultos. \nDel lunes 20 al viernes 24 de mayo.  De 15 a 18h. \nMuseo y Domo Ferroviario (Parque Benegas – Panamericana y Av. del Trabajo). \n[/vc_column_text][/vc_column][/vc_row][vc_row][vc_column][vc_single_image image=»59250″ img_size=»full»][/vc_column][/vc_row] \n
URL:https://www.godoycruz.sisargentina.com/evento/iv-edicion-la-semana-los-museos-6/
ATTACH;FMTTYPE=image/jpeg:https://www.godoycruz.sisargentina.com/wp-content/uploads/2019/05/IMG-20190507-WA0005.jpg
END:VEVENT
END:VCALENDAR