BEGIN:VCALENDAR
VERSION:2.0
PRODID:-//Godoy Cruz - ECPv4.5.8.1//NONSGML v1.0//EN
CALSCALE:GREGORIAN
METHOD:PUBLISH
X-WR-CALNAME:Godoy Cruz
X-ORIGINAL-URL:https://www.godoycruz.sisargentina.com
X-WR-CALDESC:Events for Godoy Cruz
BEGIN:VEVENT
DTSTART;TZID=UTC-3:20190517T100000
DTEND;TZID=UTC-3:20190517T100000
DTSTAMP:20260424T133110
CREATED:20190515T162914Z
LAST-MODIFIED:20190515T162914Z
UID:59230-1558087200-1558087200@www.godoycruz.sisargentina.com
SUMMARY:IV Edición de la Semana de los Museos
DESCRIPTION:[vc_row][vc_column][vc_column_text]Museo Ferroviario: visitas guiadas con intervención artística (solicitar turno). \nMartes a viernes. Mañana (10 – 12 h). Tarde (15 – 18 h). \nInformes\, turnos\, inscripciones: 4391684/2616069185. Museo y Domo Ferroviario (Parque Benegas – Panamericana y Av. del Trabajo). Entrada libre y gratuita.[/vc_column_text][/vc_column][/vc_row][vc_row][vc_column][vc_single_image image=»59231″ img_size=»full»][/vc_column][/vc_row] \n
URL:https://www.godoycruz.sisargentina.com/evento/iv-edicion-la-semana-los-museos-2/
ATTACH;FMTTYPE=image/jpeg:https://www.godoycruz.sisargentina.com/wp-content/uploads/2019/05/IMG-20190507-WA0006.jpg
END:VEVENT
END:VCALENDAR