BEGIN:VCALENDAR
VERSION:2.0
PRODID:-//Godoy Cruz - ECPv4.5.8.1//NONSGML v1.0//EN
CALSCALE:GREGORIAN
METHOD:PUBLISH
X-WR-CALNAME:Godoy Cruz
X-ORIGINAL-URL:https://www.godoycruz.sisargentina.com
X-WR-CALDESC:Events for Godoy Cruz
BEGIN:VEVENT
DTSTART;TZID=UTC-3:20190713T160000
DTEND;TZID=UTC-3:20190713T173000
DTSTAMP:20260424T162314
CREATED:20190707T001011Z
LAST-MODIFIED:20190707T001011Z
UID:60718-1563033600-1563039000@www.godoycruz.sisargentina.com
SUMMARY:Invierno en Godoy Cruz - Títeres
DESCRIPTION:[vc_row][vc_column][vc_column_text]Domo de los Títeres. \nFunciones: 16:00 y 17.30. \nEntrada general: $100 (por función). \nIncluye: Teatro de Títeres Lambe-lambe (teatro en miniatura).Un espectador a la vez. Entrada: contribución voluntaria. \nObra: El cocinero\, su novia y el señor que tiene hambre. Elenco: Burbujas.[/vc_column_text][/vc_column][/vc_row][vc_row][vc_column][vc_single_image image=»60714″ img_size=»full»][/vc_column][/vc_row] \n
URL:https://www.godoycruz.sisargentina.com/evento/invierno-godoy-cruz-titeres-2/
ATTACH;FMTTYPE=image/jpeg:https://www.godoycruz.sisargentina.com/wp-content/uploads/2019/07/web-Domo-titeres-gral.jpg
END:VEVENT
END:VCALENDAR