BEGIN:VCALENDAR
VERSION:2.0
PRODID:-//Godoy Cruz - ECPv4.5.8.1//NONSGML v1.0//EN
CALSCALE:GREGORIAN
METHOD:PUBLISH
X-WR-CALNAME:Godoy Cruz
X-ORIGINAL-URL:https://www.godoycruz.sisargentina.com
X-WR-CALDESC:Events for Godoy Cruz
BEGIN:VEVENT
DTSTART;TZID=UTC-3:20190711T143000
DTEND;TZID=UTC-3:20190711T183000
DTSTAMP:20260424T151102
CREATED:20190707T035736Z
LAST-MODIFIED:20190707T035736Z
UID:60756-1562855400-1562869800@www.godoycruz.sisargentina.com
SUMMARY:Invierno en Godoy Cruz - museo en vacaciones
DESCRIPTION:[vc_row][vc_column][vc_column_text]Museo Ferroviario. De 14.30 a 18.30. \nActividades: Recorrido de maqueta en video 360º (Realidad Virtual). Espacio de arte (dibujo y pintura). Armado de títeres y\nmaquetas. Juegos didácticos. \nEntrada gratuita. Informes: 4391684.[/vc_column_text][/vc_column][/vc_row][vc_row][vc_column][vc_single_image image=»60752″ img_size=»full»][/vc_column][/vc_row] \n
URL:https://www.godoycruz.sisargentina.com/evento/invierno-godoy-cruz-museo-vacaciones-2/
ATTACH;FMTTYPE=image/jpeg:https://www.godoycruz.sisargentina.com/wp-content/uploads/2019/07/web-invierno-museo-ferroviario.jpg
END:VEVENT
END:VCALENDAR