BEGIN:VCALENDAR
VERSION:2.0
PRODID:-//Godoy Cruz - ECPv4.5.8.1//NONSGML v1.0//EN
CALSCALE:GREGORIAN
METHOD:PUBLISH
X-WR-CALNAME:Godoy Cruz
X-ORIGINAL-URL:https://www.godoycruz.sisargentina.com
X-WR-CALDESC:Events for Godoy Cruz
BEGIN:VEVENT
DTSTART;TZID=UTC-3:20190709T153000
DTEND;TZID=UTC-3:20190709T173000
DTSTAMP:20260424T103942
CREATED:20190706T161327Z
LAST-MODIFIED:20190706T161327Z
UID:60645-1562686200-1562693400@www.godoycruz.sisargentina.com
SUMMARY:Invierno en Godoy Cruz – infantiles en la B+M
DESCRIPTION:[vc_row][vc_column][vc_column_text]Mediateca Infantil. \nFunciones: 15:30 y 17:30. \nEntrada general: $120. \nObra: El Show Mágico. Espectáculo de música\, juegos y humor. Elenco: Los Musilocos.[/vc_column_text][/vc_column][/vc_row][vc_row][vc_column][vc_single_image image=»60646″ img_size=»full»][/vc_column][/vc_row] \n
URL:https://www.godoycruz.sisargentina.com/evento/invierno-godoy-cruz-infantiles-la-bm-3/
LOCATION:Tomba 54\, Godoy Cruz\, Mendoza\, 5501\, Argentina
ATTACH;FMTTYPE=image/jpeg:https://www.godoycruz.sisargentina.com/wp-content/uploads/2019/07/web-vacaciones-BM-gral.jpg
END:VEVENT
END:VCALENDAR