BEGIN:VCALENDAR
VERSION:2.0
PRODID:-//Godoy Cruz - ECPv4.5.8.1//NONSGML v1.0//EN
CALSCALE:GREGORIAN
METHOD:PUBLISH
X-WR-CALNAME:Godoy Cruz
X-ORIGINAL-URL:https://www.godoycruz.sisargentina.com
X-WR-CALDESC:Events for Godoy Cruz
BEGIN:VEVENT
DTSTART;TZID=UTC-3:20190718T153000
DTEND;TZID=UTC-3:20190718T173000
DTSTAMP:20260424T181313
CREATED:20190706T174810Z
LAST-MODIFIED:20190706T174810Z
UID:60679-1563463800-1563471000@www.godoycruz.sisargentina.com
SUMMARY:Invierno en Godoy Cruz – infantiles en la B+M
DESCRIPTION:[vc_row][vc_column][vc_column_text]Mediateca Infantil. \nFunciones: 15:30 y 17:30. \nEntrada general: $120. \nObra: Florena y el pirata Diente de Lata. Espectáculo de títeres.      Elenco: Títeres La Tía Tomasa.[/vc_column_text][/vc_column][/vc_row][vc_row][vc_column][vc_single_image image=»60680″ img_size=»full»][/vc_column][/vc_row] \n
URL:https://www.godoycruz.sisargentina.com/evento/invierno-godoy-cruz-infantiles-la-bm-12/
LOCATION:Tomba 54\, Godoy Cruz\, Mendoza\, 5501\, Argentina
ATTACH;FMTTYPE=image/jpeg:https://www.godoycruz.sisargentina.com/wp-content/uploads/2019/07/web-vacaciones-BM-gral.jpg
END:VEVENT
END:VCALENDAR