BEGIN:VCALENDAR
VERSION:2.0
PRODID:-//Godoy Cruz - ECPv4.5.8.1//NONSGML v1.0//EN
CALSCALE:GREGORIAN
METHOD:PUBLISH
X-WR-CALNAME:Godoy Cruz
X-ORIGINAL-URL:https://www.godoycruz.sisargentina.com
X-WR-CALDESC:Events for Godoy Cruz
BEGIN:VEVENT
DTSTART;TZID=UTC-3:20180714T160000
DTEND;TZID=UTC-3:20180714T160000
DTSTAMP:20260425T113218
CREATED:20180713T152305Z
LAST-MODIFIED:20180713T152305Z
UID:51152-1531584000-1531584000@www.godoycruz.sisargentina.com
SUMMARY:Invierno en Godoy Cruz - Circo Rodante
DESCRIPTION:[vc_row][vc_column][vc_column_text]Circo Rodante por los barrios de Godoy Cruz. Elencos artísticos. Malabares\, acrobacias\, payasos\, magia. Chocolate y tortitas. \nBº La Estanzuela (Calles Vicente Vildoza y Olmo Zarate). Apoya: Jóvenes por la Estanzuela. Entrada gratuita. \nSábado 14:[/vc_column_text][/vc_column][/vc_row][vc_row][vc_column][vc_single_image image=»51153″ img_size=»full»][/vc_column][/vc_row][vc_row][vc_column][vc_gmaps link=»#E-8_JTNDaWZyYW1lJTIwc3JjJTNEJTIyaHR0cHMlM0ElMkYlMkZ3d3cuZ29vZ2xlLmNvbSUyRm1hcHMlMkZlbWJlZCUzRnBiJTNEJTIxMW0xOCUyMTFtMTIlMjExbTMlMjExZDMzNDguMTk4OTc3MzI3OTg1NiUyMTJkLTY4Ljg3MTY1NTg4NTE5ODM2JTIxM2QtMzIuOTQ1NzU1NjgwOTIxMjk1JTIxMm0zJTIxMWYwJTIxMmYwJTIxM2YwJTIxM20yJTIxMWkxMDI0JTIxMmk3NjglMjE0ZjEzLjElMjEzbTMlMjExbTIlMjExczB4OTY3ZTBhMzc0Y2JmYzdkMSUyNTNBMHhiMjNkY2IyY2U3NGUyZjdjJTIxMnNQbGF6YSUyQkJhcnJpbyUyQkxhJTJCRXN0YW56dWVsYS4lMjE1ZTAlMjEzbTIlMjExc2VzLTQxOSUyMTJzYXIlMjE0djE1MzE0OTUwNjIyODAlMjIlMjB3aWR0aCUzRCUyMjQwMCUyMiUyMGhlaWdodCUzRCUyMjMwMCUyMiUyMGZyYW1lYm9yZGVyJTNEJTIyMCUyMiUyMHN0eWxlJTNEJTIyYm9yZGVyJTNBMCUyMiUyMGFsbG93ZnVsbHNjcmVlbiUzRSUzQyUyRmlmcmFtZSUzRQ==»][/vc_column][/vc_row] \n
URL:https://www.godoycruz.sisargentina.com/evento/invierno-godoy-cruz-circo-rodante/
ATTACH;FMTTYPE=image/jpeg:https://www.godoycruz.sisargentina.com/wp-content/uploads/2018/07/Web-circo-rodante-14-B-estanzuela.jpg
END:VEVENT
END:VCALENDAR