BEGIN:VCALENDAR
VERSION:2.0
PRODID:-//Godoy Cruz - ECPv4.5.8.1//NONSGML v1.0//EN
CALSCALE:GREGORIAN
METHOD:PUBLISH
X-WR-CALNAME:Godoy Cruz
X-ORIGINAL-URL:https://www.godoycruz.sisargentina.com
X-WR-CALDESC:Events for Godoy Cruz
BEGIN:VEVENT
DTSTART;TZID=UTC-3:20180722T150000
DTEND;TZID=UTC-3:20180722T150000
DTSTAMP:20260425T113421
CREATED:20180719T164211Z
LAST-MODIFIED:20180719T164211Z
UID:51292-1532271600-1532271600@www.godoycruz.sisargentina.com
SUMMARY:Invierno en Godoy Cruz - Circo Rodante
DESCRIPTION:[vc_row][vc_column][vc_column_text]Circo Rodante por los barrios de Godoy Cruz. Elencos artísticos. Malabares\, acrobacias\, payasos\, magia. \nChocolate y tortitas. \nBº La Gloria (Manzana B\, sobre calle Terrada). Entrada gratuita. \nDomingo 22:[/vc_column_text][/vc_column][/vc_row][vc_row][vc_column][vc_single_image image=»51296″ img_size=»full»][/vc_column][/vc_row] \n
URL:https://www.godoycruz.sisargentina.com/evento/invierno-godoy-cruz-circo-rodante-4/
ATTACH;FMTTYPE=image/jpeg:https://www.godoycruz.sisargentina.com/wp-content/uploads/2018/07/Circo-rodante-22-j-La-gloria-1.jpg
END:VEVENT
END:VCALENDAR