BEGIN:VCALENDAR
VERSION:2.0
PRODID:-//Godoy Cruz - ECPv4.5.8.1//NONSGML v1.0//EN
CALSCALE:GREGORIAN
METHOD:PUBLISH
X-WR-CALNAME:Godoy Cruz
X-ORIGINAL-URL:https://www.godoycruz.sisargentina.com
X-WR-CALDESC:Events for Godoy Cruz
BEGIN:VEVENT
DTSTART;TZID=UTC-3:20190222T130000
DTEND;TZID=UTC-3:20190222T130000
DTSTAMP:20260424T222015
CREATED:20190215T160942Z
LAST-MODIFIED:20190215T160942Z
UID:57147-1550840400-1550840400@www.godoycruz.sisargentina.com
SUMMARY:Inscripción al Carnaval 2019
DESCRIPTION:[vc_row][vc_column][vc_column_text]Concurso de Murgas y Comparsas.  \nCategorías: Murga mendocina\, porteña/rioplatense. \nComparsa boliviana/noroeste argentino. \nComparsa de Candombe. \nComparsa barrial comunitaria.  \nInscripciones abiertas: hasta el viernes 22 de febrero. \nLugar: Cine Teatro Plaza (Colón 27). \nHora: de 09:00 a 13:00. Bases y condiciones: https://goo.gl/EDRj21[/vc_column_text][/vc_column][/vc_row][vc_row][vc_column][vc_single_image image=»57148″ img_size=»full»][/vc_column][/vc_row] \n
URL:https://www.godoycruz.sisargentina.com/evento/inscripcion-al-carnaval-2019/
LOCATION:Colón 27\, Godoy Cruz\, Mendoza\, 5501\, Argentina
ATTACH;FMTTYPE=image/jpeg:https://www.godoycruz.sisargentina.com/wp-content/uploads/2019/02/WhatsApp-Image-2019-02-15-at-12.33.35.jpeg
END:VEVENT
END:VCALENDAR