BEGIN:VCALENDAR
VERSION:2.0
PRODID:-//Godoy Cruz - ECPv4.5.8.1//NONSGML v1.0//EN
CALSCALE:GREGORIAN
METHOD:PUBLISH
X-WR-CALNAME:Godoy Cruz
X-ORIGINAL-URL:https://www.godoycruz.sisargentina.com
X-WR-CALDESC:Events for Godoy Cruz
BEGIN:VEVENT
DTSTART;TZID=UTC-3:20181127T210000
DTEND;TZID=UTC-3:20181127T210000
DTSTAMP:20260425T011840
CREATED:20181116T154037Z
LAST-MODIFIED:20181116T154037Z
UID:54983-1543352400-1543352400@www.godoycruz.sisargentina.com
SUMMARY:“Imperio\, el Musical. Una historia de amor entre dos mundos”
DESCRIPTION:[vc_row][vc_column][vc_column_text]Una gran producción teatral y musical para toda la familia. \nEntrada gratuita. (limitada a la capacidad de la sala). \nRetirar en la boletería (Colón 27)\, de lunes a viernes de 9 a 18 h.[/vc_column_text][/vc_column][/vc_row][vc_row][vc_column][vc_single_image image=»54984″ img_size=»full»][/vc_column][/vc_row] \n
URL:https://www.godoycruz.sisargentina.com/evento/imperio-musical-una-historia-amor-dos-mundos/
LOCATION:Colón 27\, Godoy Cruz\, Mendoza\, 5501\, Argentina
ATTACH;FMTTYPE=image/jpeg:https://www.godoycruz.sisargentina.com/wp-content/uploads/2018/11/grupal-1.jpg
END:VEVENT
END:VCALENDAR